BEGIN:VCALENDAR
VERSION:2.0
PRODID:-//wp-events-plugin.com//7.2.3.1//EN
TZID:Europe/Berlin
X-WR-TIMEZONE:Europe/Berlin
BEGIN:VEVENT
UID:1-12211@narcotics-anonymous.de
DTSTART;TZID=Europe/Berlin:20230512T000000
DTEND;TZID=Europe/Berlin:20230514T000000
DTSTAMP:20230323T182635Z
URL:https://narcotics-anonymous.de/events/25-jahre-leipzig/
SUMMARY:25 Jahre Leipzig
DESCRIPTION:\n
CATEGORIES:Convention/Party,Top-Event
LOCATION:Freie Evangelische Gemeinde\, Roßplatz 8-9\, Leipzig\, Sachsen\, 
 04109\, Deutschland
GEO:51.336068;12.376775
X-APPLE-STRUCTURED-LOCATION;VALUE=URI;X-ADDRESS=Roßplatz 8-9\, Leipzig\, S
 achsen\, 04109\, Deutschland;X-APPLE-RADIUS=100;X-TITLE=Freie Evangelische
  Gemeinde:geo:51.336068,12.376775
END:VEVENT
BEGIN:VTIMEZONE
TZID:Europe/Berlin
X-LIC-LOCATION:Europe/Berlin
BEGIN:DAYLIGHT
DTSTART:20230326T030000
TZOFFSETFROM:+0100
TZOFFSETTO:+0200
TZNAME:CEST
END:DAYLIGHT
END:VTIMEZONE
END:VCALENDAR