BEGIN:VCALENDAR
VERSION:2.0
PRODID:-//wp-events-plugin.com//7.2.3.1//EN
TZID:Europe/Berlin
X-WR-TIMEZONE:Europe/Berlin
BEGIN:VEVENT
UID:1-11234@narcotics-anonymous.de
DTSTART;TZID=Europe/Berlin:20220915T000000
DTEND;TZID=Europe/Berlin:20220917T000000
DTSTAMP:20220803T220605Z
URL:https://narcotics-anonymous.de/events/21-na-israel-convention/
SUMMARY:21. NA-Israel Convention
DESCRIPTION:
ATTACH;FMTTYPE=image/jpeg:https://narcotics-anonymous.de/wp-content/upload
 s/2022/08/Israel_22_crop.jpg
CATEGORIES:Convention/Party,Top-Event
LOCATION:Royal Hotel Dead Sea Israel\, Ein Bokek \, עין בוקק\, Südb
 ezirk\, 86930\, Israel
GEO:31.187137;35.360656
X-APPLE-STRUCTURED-LOCATION;VALUE=URI;X-ADDRESS=Ein Bokek \, עין בוק
 ק\, Südbezirk\, 86930\, Israel;X-APPLE-RADIUS=100;X-TITLE=Royal Hotel De
 ad Sea Israel:geo:31.187137,35.360656
END:VEVENT
BEGIN:VTIMEZONE
TZID:Europe/Berlin
X-LIC-LOCATION:Europe/Berlin
BEGIN:DAYLIGHT
DTSTART:20220327T030000
TZOFFSETFROM:+0100
TZOFFSETTO:+0200
TZNAME:CEST
END:DAYLIGHT
END:VTIMEZONE
END:VCALENDAR