BEGIN:VCALENDAR
VERSION:2.0
PRODID:-//wp-events-plugin.com//7.2.3.1//EN
TZID:Europe/Berlin
X-WR-TIMEZONE:Europe/Berlin
BEGIN:VEVENT
UID:1-14685@narcotics-anonymous.de
DTSTART;TZID=Europe/Berlin:20250615T140000
DTEND;TZID=Europe/Berlin:20250615T170000
DTSTAMP:20250518T100557Z
URL:https://narcotics-anonymous.de/events/17-konvention-von-na-farsi-in-wi
 en/
SUMMARY:17. Konvention von NA Farsi in Wien
DESCRIPTION:
ATTACH;FMTTYPE=image/jpeg:https://narcotics-anonymous.de/wp-content/upload
 s/2025/05/NA-Wien-2025-scaled.png
CATEGORIES:Convention/Party,Top-Event
LOCATION:Pita & More\, Rotensterngasse 33-35\, Wien\, 1020\, Österreich
GEO:48.216658;16.385975
X-APPLE-STRUCTURED-LOCATION;VALUE=URI;X-ADDRESS=Rotensterngasse 33-35\, Wie
 n\, 1020\, Österreich;X-APPLE-RADIUS=100;X-TITLE=Pita & More:geo:48.21665
 8,16.385975
END:VEVENT
BEGIN:VTIMEZONE
TZID:Europe/Berlin
X-LIC-LOCATION:Europe/Berlin
BEGIN:DAYLIGHT
DTSTART:20250330T030000
TZOFFSETFROM:+0100
TZOFFSETTO:+0200
TZNAME:CEST
END:DAYLIGHT
END:VTIMEZONE
END:VCALENDAR