BEGIN:VCALENDAR
VERSION:2.0
PRODID:-//wp-events-plugin.com//7.2.3.1//EN
TZID:Europe/Berlin
X-WR-TIMEZONE:Europe/Berlin
BEGIN:VEVENT
UID:1-13098@narcotics-anonymous.de
DTSTART;TZID=Europe/Berlin:20240303T090000
DTEND;TZID=Europe/Berlin:20240303T143000
DTSTAMP:20240225T200239Z
URL:https://narcotics-anonymous.de/events/120-rsk-hybrid-berlin-zoom-tag-2
 /
SUMMARY:120. RSK HYBRID (Berlin/ ZOOM) - Tag 2
DESCRIPTION:HYBRID Meeting:  Findet auch per Zoom statt!\n\nIhr braucht ke
 in Passwort\, der Host lässt euch gleich rein.\nHier geht es zur RSK: Zoo
 m-Link\n[not_na_member][wpdm_modal_login_form label="Um Tageordnung\, Beri
 chte und Anträge zu sehen: Hier klicken um einzuloggen!" class="btn btn-p
 rimary"][/not_na_member]\n\n[wpdm_na_section category="rsk-120" items_per_
 page="20" style="border-width: 3px\; border-color: #294272\;"]
CATEGORIES:Service
LOCATION:Neue Deutschland -\, Franz-Mehring-Platz 1\, Berlin\, Berlin\, 102
 43\, Deutschland
GEO:52.512738;13.440575
X-APPLE-STRUCTURED-LOCATION;VALUE=URI;X-ADDRESS=Franz-Mehring-Platz 1\, Ber
 lin\, Berlin\, 10243\, Deutschland;X-APPLE-RADIUS=100;X-TITLE=Neue Deutsch
 land -:geo:52.512738,13.440575
END:VEVENT
BEGIN:VTIMEZONE
TZID:Europe/Berlin
X-LIC-LOCATION:Europe/Berlin
BEGIN:STANDARD
DTSTART:20231029T020000
TZOFFSETFROM:+0200
TZOFFSETTO:+0100
TZNAME:CET
END:STANDARD
END:VTIMEZONE
END:VCALENDAR