BEGIN:VCALENDAR
VERSION:2.0
PRODID:-//wp-events-plugin.com//7.2.3.1//EN
TZID:Europe/Berlin
X-WR-TIMEZONE:Europe/Berlin
BEGIN:VEVENT
UID:1-11351@narcotics-anonymous.de
DTSTART;TZID=Europe/Berlin:20221105T100000
DTEND;TZID=Europe/Berlin:20221105T180000
DTSTAMP:20230922T084120Z
URL:https://narcotics-anonymous.de/events/116-rsk-hybrid-frankfurt-zoom/
SUMMARY:116. RSK Hybrid (Frankfurt/ Zoom)
DESCRIPTION:This is the excerpt
CATEGORIES:Service
LOCATION:Herman Hesse Schule\, Hainer Weg 98\, Frankfurt am Main\, Hessen\,
  60599\, Frankfurt am Main\, Deutschland
GEO:50.096615;8.694552
X-APPLE-STRUCTURED-LOCATION;VALUE=URI;X-ADDRESS=Hainer Weg 98\, Frankfurt a
 m Main\, Hessen\, 60599\, Frankfurt am Main\, Deutschland;X-APPLE-RADIUS=1
 00;X-TITLE=Herman Hesse Schule:geo:50.096615,8.694552
END:VEVENT
BEGIN:VTIMEZONE
TZID:Europe/Berlin
X-LIC-LOCATION:Europe/Berlin
BEGIN:STANDARD
DTSTART:20221030T020000
TZOFFSETFROM:+0200
TZOFFSETTO:+0100
TZNAME:CET
END:STANDARD
END:VTIMEZONE
END:VCALENDAR