BEGIN:VCALENDAR
VERSION:2.0
PRODID:-//wp-events-plugin.com//7.2.3.1//EN
TZID:Europe/Berlin
X-WR-TIMEZONE:Europe/Berlin
BEGIN:VEVENT
UID:1-14606@narcotics-anonymous.de
DTSTART;TZID=Europe/Berlin;VALUE=DATE:20250628
DTEND;TZID=Europe/Berlin;VALUE=DATE:20250630
DTSTAMP:20250429T155058Z
URL:https://narcotics-anonymous.de/events/11-jahre-georgien-tiflis/
SUMMARY:11 Jahre Georgien\, Tiflis
DESCRIPTION:
ATTACH;FMTTYPE=image/jpeg:https://narcotics-anonymous.de/wp-content/upload
 s/2025/04/Georgien-NA-posters_German_crop.jpg
CATEGORIES:Convention/Party,Top-Event
LOCATION:Restaurant Otium\, N. Berdzenishvili Str. 10\, Tiflis\, K'alak'i T
 'bilisi\, Georgien
GEO:41.69411;44.83368
X-APPLE-STRUCTURED-LOCATION;VALUE=URI;X-ADDRESS=N. Berdzenishvili Str. 10\,
  Tiflis\, K'alak'i T'bilisi\, Georgien;X-APPLE-RADIUS=100;X-TITLE=Restaura
 nt Otium:geo:41.69411,44.83368
END:VEVENT
BEGIN:VTIMEZONE
TZID:Europe/Berlin
X-LIC-LOCATION:Europe/Berlin
BEGIN:DAYLIGHT
DTSTART:20250330T030000
TZOFFSETFROM:+0100
TZOFFSETTO:+0200
TZNAME:CEST
END:DAYLIGHT
END:VTIMEZONE
END:VCALENDAR