BEGIN:VCALENDAR
VERSION:2.0
PRODID:-//wp-events-plugin.com//7.2.3.1//EN
TZID:Europe/Berlin
X-WR-TIMEZONE:Europe/Berlin
BEGIN:VEVENT
UID:1-11101@narcotics-anonymous.de
DTSTART;TZID=Europe/Berlin:20220717T130000
DTEND;TZID=Europe/Berlin:20220717T150000
DTSTAMP:20220711T192913Z
URL:https://narcotics-anonymous.de/events/1-vorbereitendes-treffen-zwecks-
 gruendung-online-gebiet/
SUMMARY:1. Vorbereitendes Treffen zwecks Gründung Online-Gebiet
DESCRIPTION:Wir treffen uns\, um informell die Gründung eines Online-Gebie
 ts und die möglichen Schritte dort hin zu besprechen.\nHerzlich willkomme
 n!\n\nhttps://zoom.us/j/8933771264?pwd=eHkrYzNtdnFmMzA3bkRaQmFGY1pCUT09\nM
 eeting-ID: 8933771264\nPW: 847695\n\nEinwahlnummer: \n+49 30 5679 5800 De
 utschland\n+49 69 3807 9883 Deutschland+49 695 050 2596 Deutschland+49 69 
 7104 9922 Deutschland
CATEGORIES:Service
LOCATION:https://zoom.us/j/8933771264?pwd=eHkrYzNtdnFmMzA3bkRaQmFGY1pCUT09
END:VEVENT
BEGIN:VTIMEZONE
TZID:Europe/Berlin
X-LIC-LOCATION:Europe/Berlin
BEGIN:DAYLIGHT
DTSTART:20220327T030000
TZOFFSETFROM:+0100
TZOFFSETTO:+0200
TZNAME:CEST
END:DAYLIGHT
END:VTIMEZONE
END:VCALENDAR