BEGIN:VCALENDAR
VERSION:2.0
PRODID:-//wp-events-plugin.com//7.2.3.1//EN
TZID:Europe/Berlin
X-WR-TIMEZONE:Europe/Berlin
BEGIN:VEVENT
UID:1-12944@narcotics-anonymous.de
DTSTART;TZID=Europe/Berlin:20231216T200000
DTEND;TZID=Europe/Berlin:20231216T220000
DTSTAMP:20231215T091217Z
URL:https://narcotics-anonymous.de/events/1-treffen-na-app/
SUMMARY:1. Treffen NA-App
DESCRIPTION:Wir treffen uns informell\, um die Möglichkeiten\, eine NA-App
  (PC\, OSX\, iOS\, Android\, ...) zu erstellen auszuloten.\n\nhttps://zoom
 .us/j/8933771264?pwd=eHkrYzNtdnFmMzA3bkRaQmFGY1pCUT09\nMeeting-ID: 8933771
 264\nPW: 847695\n\nEinwahlnummer: \n+49 30 5679 5800 Deutschland\n+49 69 
 3807 9883 Deutschland+49 695 050 2596 Deutschland+49 69 7104 9922 Deutschl
 and
CATEGORIES:Service
LOCATION:https://zoom.us/j/8933771264?pwd=eHkrYzNtdnFmMzA3bkRaQmFGY1pCUT09
END:VEVENT
BEGIN:VTIMEZONE
TZID:Europe/Berlin
X-LIC-LOCATION:Europe/Berlin
BEGIN:STANDARD
DTSTART:20231029T020000
TZOFFSETFROM:+0200
TZOFFSETTO:+0100
TZNAME:CET
END:STANDARD
END:VTIMEZONE
END:VCALENDAR