BEGIN:VCALENDAR
VERSION:2.0
PRODID:-//wp-events-plugin.com//7.2.3.1//EN
TZID:Europe/Berlin
X-WR-TIMEZONE:Europe/Berlin
BEGIN:VEVENT
UID:1-15604@narcotics-anonymous.de
DTSTART;TZID=Europe/Berlin;VALUE=DATE:20231027
DTEND;TZID=Europe/Berlin;VALUE=DATE:20231030
DTSTAMP:20230716T115645Z
URL:https://narcotics-anonymous.de/events/1-ibiza-convention/
SUMMARY:1. Ibiza Convention
DESCRIPTION:\n\nWeitere Informationen findest du hier
CATEGORIES:Convention/Party,Top-Event
LOCATION:Ibiza Hotel Puchet\, Carrer des Caló\, Port d'es Torrent\, Illes 
 Balears\, 07829\, Ibiza\, Spanien
GEO:38.967;1.2962
X-APPLE-STRUCTURED-LOCATION;VALUE=URI;X-ADDRESS=Carrer des Caló\, Port d'e
 s Torrent\, Illes Balears\, 07829\, Ibiza\, Spanien;X-APPLE-RADIUS=100;X-T
 ITLE=Ibiza Hotel Puchet:geo:38.967,1.2962
END:VEVENT
BEGIN:VTIMEZONE
TZID:Europe/Berlin
X-LIC-LOCATION:Europe/Berlin
BEGIN:DAYLIGHT
DTSTART:20230326T030000
TZOFFSETFROM:+0100
TZOFFSETTO:+0200
TZNAME:CEST
END:DAYLIGHT
BEGIN:STANDARD
DTSTART:20231029T020000
TZOFFSETFROM:+0200
TZOFFSETTO:+0100
TZNAME:CET
END:STANDARD
END:VTIMEZONE
END:VCALENDAR